BEGIN:VCALENDAR
VERSION:2.0
PRODID:-//Family Initiative, Inc. - ECPv6.15.20//NONSGML v1.0//EN
CALSCALE:GREGORIAN
METHOD:PUBLISH
X-ORIGINAL-URL:https://www.fi-florida.org
X-WR-CALDESC:Events for Family Initiative, Inc.
REFRESH-INTERVAL;VALUE=DURATION:PT1H
X-Robots-Tag:noindex
X-PUBLISHED-TTL:PT1H
BEGIN:VTIMEZONE
TZID:America/New_York
BEGIN:DAYLIGHT
TZOFFSETFROM:-0500
TZOFFSETTO:-0400
TZNAME:EDT
DTSTART:20250309T070000
END:DAYLIGHT
BEGIN:STANDARD
TZOFFSETFROM:-0400
TZOFFSETTO:-0500
TZNAME:EST
DTSTART:20251102T060000
END:STANDARD
BEGIN:DAYLIGHT
TZOFFSETFROM:-0500
TZOFFSETTO:-0400
TZNAME:EDT
DTSTART:20260308T070000
END:DAYLIGHT
BEGIN:STANDARD
TZOFFSETFROM:-0400
TZOFFSETTO:-0500
TZNAME:EST
DTSTART:20261101T060000
END:STANDARD
BEGIN:DAYLIGHT
TZOFFSETFROM:-0500
TZOFFSETTO:-0400
TZNAME:EDT
DTSTART:20270314T070000
END:DAYLIGHT
BEGIN:STANDARD
TZOFFSETFROM:-0400
TZOFFSETTO:-0500
TZNAME:EST
DTSTART:20271107T060000
END:STANDARD
END:VTIMEZONE
BEGIN:VEVENT
DTSTART;TZID=America/New_York:20260203T163000
DTEND;TZID=America/New_York:20260224T180000
DTSTAMP:20260425T185100
CREATED:20260121T163442Z
LAST-MODIFIED:20260121T163442Z
UID:10003143-1770136200-1771956000@www.fi-florida.org
SUMMARY:FI Creates Fort Myers -ART- Cycle Starting February 3rd-24th 4:30pm-6:00pm
DESCRIPTION:Join us for our next cycle of FI Creates Fort Myers! Our next cycle will be ART Space is limited so please sign up today! This group is open to ages 5-15. If you have not participated previously\, please contact us prior at to registration so we can provide additional information for this cycle. \nIf you require accommodations\, please contact us at info@fi-florida.org. \nTuesdays February 3rd-24th 4:30 PM –6:30 p.m.\nChrist Community Church 4050 Colonial Blvd Fort Myers FL 33996\nCost $40 per cycle.\nAges 5-15
URL:https://www.fi-florida.org/event/fi-creates-fort-myers-art-cycle-starting-february-3rd-24th-430pm-600pm/2026-02-03/
LOCATION:Christ Community Church\, 4050 Colonial Blvd\, Fort Myers\, FL\, 33966\, United States
CATEGORIES:FI Creates
ATTACH;FMTTYPE=image/png:https://www.fi-florida.org/wp-content/uploads/2026/01/2.png
ORGANIZER;CN="Family Initiative%2C Inc.":MAILTO:info@fi-florida.org
END:VEVENT
BEGIN:VEVENT
DTSTART;TZID=America/New_York:20260203T163000
DTEND;TZID=America/New_York:20260224T180000
DTSTAMP:20260425T185100
CREATED:20260121T164337Z
LAST-MODIFIED:20260121T164337Z
UID:10003145-1770136200-1771956000@www.fi-florida.org
SUMMARY:FI Creates Cape Coral - YOGA- Cycle Starting February 3rd-24th 4:30pm-6:00pm
DESCRIPTION:Join us for our next cycle of FI Creates Cape Coral! Our next cycle will be YOGA! Space is limited so please sign up today! This group is open to ages 5-15. If you have not participated previously\, please contact us prior at to registration so we can provide additional information for this cycle. \nIf you require accommodations\, please contact us at info@fi-florida.org. \nTuesdays February 3rd-24th 4:30 PM –6:30 p.m.\nGolisano Autism Community Hub 3221 Chiquita Blvd.\, Cape Coral\, FL\nCost $40 per cycle.\nAges 5-15
URL:https://www.fi-florida.org/event/fi-creates-cape-coral-yoga-cycle-starting-february-3rd-24th-430pm-600pm/2026-02-03/
LOCATION:Family Initiative Campus\, 3221 Chiquita Blvd\, Cape Coral\, 33914
CATEGORIES:FI Creates
ATTACH;FMTTYPE=image/png:https://www.fi-florida.org/wp-content/uploads/2025/12/1.png
ORGANIZER;CN="Family Initiative%2C Inc.":MAILTO:info@fi-florida.org
END:VEVENT
BEGIN:VEVENT
DTSTART;TZID=America/New_York:20260303T163000
DTEND;TZID=America/New_York:20260324T180000
DTSTAMP:20260425T185100
CREATED:20260224T203536Z
LAST-MODIFIED:20260224T203536Z
UID:10003171-1772555400-1774375200@www.fi-florida.org
SUMMARY:FI Creates Fort Myers -STEM- Cycle Starting March 3rd-24th 4:30pm-6:00pm
DESCRIPTION:Join us for our next cycle of FI Creates Fort Myers! Our next cycle will be STEM Space is limited so please sign up today! This group is open to ages 5-15. If you have not participated previously\, please contact us prior at to registration so we can provide additional information for this cycle. \nIf you require accommodations\, please contact us at info@fi-florida.org. \nTuesdays March 3rd-24th 4:30 PM –6:30 p.m.\nChrist Community Church 4050 Colonial Blvd Fort Myers FL 33996\nCost $40 per cycle.\nAges 5-15
URL:https://www.fi-florida.org/event/fi-creates-fort-myers-stem-cycle-starting-march-3rd-24th-430pm-600pm/2026-03-03/
LOCATION:Christ Community Church\, 4050 Colonial Blvd\, Fort Myers\, FL\, 33966\, United States
CATEGORIES:FI Creates
ATTACH;FMTTYPE=image/png:https://www.fi-florida.org/wp-content/uploads/2026/02/2.png
ORGANIZER;CN="Family Initiative%2C Inc.":MAILTO:info@fi-florida.org
END:VEVENT
BEGIN:VEVENT
DTSTART;TZID=America/New_York:20260303T163000
DTEND;TZID=America/New_York:20260324T180000
DTSTAMP:20260425T185100
CREATED:20260224T204220Z
LAST-MODIFIED:20260224T204220Z
UID:10003173-1772555400-1774375200@www.fi-florida.org
SUMMARY:FI Creates Cape Coral - PHOTOGRAPHY- Cycle Starting March 3rd-24th 4:30pm-6:00pm
DESCRIPTION:Join us for our next cycle of FI Creates Cape Coral! Our next cycle will be PHOTOGRAPHY! Space is limited so please sign up today! This group is open to ages 5-15. If you have not participated previously\, please contact us prior at to registration so we can provide additional information for this cycle. \nIf you require accommodations\, please contact us at info@fi-florida.org. \nTuesdays March 3rd-24th 4:30 PM –6:30 p.m.\nGolisano Autism Community Hub 3221 Chiquita Blvd.\, Cape Coral\, FL\nCost $40 per cycle.\nAges 5-15
URL:https://www.fi-florida.org/event/fi-creates-cape-coral-photography-cycle-starting-march-3rd-24th-430pm-600pm/2026-03-03/
LOCATION:Family Initiative Campus\, 3221 Chiquita Blvd\, Cape Coral\, 33914
CATEGORIES:FI Creates
ATTACH;FMTTYPE=image/png:https://www.fi-florida.org/wp-content/uploads/2026/02/1.png
ORGANIZER;CN="Family Initiative%2C Inc.":MAILTO:info@fi-florida.org
END:VEVENT
BEGIN:VEVENT
DTSTART;TZID=America/New_York:20260407T163000
DTEND;TZID=America/New_York:20260428T180000
DTSTAMP:20260425T185100
CREATED:20260324T181219Z
LAST-MODIFIED:20260324T182049Z
UID:10003176-1775579400-1777399200@www.fi-florida.org
SUMMARY:FI Creates Fort Myers -ART- Cycle Starting April 7th-28th 4:30pm-6:00pm
DESCRIPTION:Join us for our next cycle of FI Creates Fort Myers! Our next cycle will be ART Space is limited so please sign up today! This group is open to ages 5-15. If you have not participated previously\, please contact us prior at to registration so we can provide additional information for this cycle. \nIf you require accommodations\, please contact us at info@fi-florida.org. \nTuesdays April 7th-28th 4:30 PM –6:30 p.m.\nChrist Community Church 4050 Colonial Blvd Fort Myers FL 33996\nCost $40 per cycle.\nAges 5-15
URL:https://www.fi-florida.org/event/fi-creates-fort-myers-art-cycle-starting-april-7th-28th-430pm-600pm/2026-04-07/
LOCATION:Christ Community Church\, 4050 Colonial Blvd\, Fort Myers\, FL\, 33966\, United States
CATEGORIES:FI Creates
ATTACH;FMTTYPE=image/png:https://www.fi-florida.org/wp-content/uploads/2026/03/FI-Creates-New-1.png
ORGANIZER;CN="Family Initiative%2C Inc.":MAILTO:info@fi-florida.org
END:VEVENT
BEGIN:VEVENT
DTSTART;TZID=America/New_York:20260407T163000
DTEND;TZID=America/New_York:20260428T180000
DTSTAMP:20260425T185100
CREATED:20260324T181856Z
LAST-MODIFIED:20260331T175756Z
UID:10003178-1775579400-1777399200@www.fi-florida.org
SUMMARY:FI Creates Cape Coral - DANCE- Cycle Starting April 7th-28th 4:30pm-6:00pm
DESCRIPTION:Join us for our next cycle of FI Creates Cape Coral! Our next cycle will be DANCE! Space is limited so please sign up today! This group is open to ages 5-15. If you have not participated previously\, please contact us prior at to registration so we can provide additional information for this cycle. \nIf you require accommodations\, please contact us at info@fi-florida.org. \nTuesdays April 7th-28th 4:30 PM –6:30 p.m.\nGolisano Autism Community Hub 3221 Chiquita Blvd.\, Cape Coral\, FL\nCost $40 per cycle.\nAges 5-15
URL:https://www.fi-florida.org/event/fi-creates-cape-coral-dance-cycle-starting-april-7th-28th-430pm-600pm/2026-04-07/
LOCATION:Family Initiative Campus\, 3221 Chiquita Blvd\, Cape Coral\, 33914
CATEGORIES:FI Creates
ATTACH;FMTTYPE=image/png:https://www.fi-florida.org/wp-content/uploads/2026/03/FI-Creates-New-2.png
ORGANIZER;CN="Family Initiative%2C Inc.":MAILTO:info@fi-florida.org
END:VEVENT
END:VCALENDAR