BEGIN:VCALENDAR
VERSION:2.0
PRODID:-//Family Initiative, Inc. - ECPv6.15.20//NONSGML v1.0//EN
CALSCALE:GREGORIAN
METHOD:PUBLISH
X-WR-CALNAME:Family Initiative, Inc.
X-ORIGINAL-URL:https://www.fi-florida.org
X-WR-CALDESC:Events for Family Initiative, Inc.
REFRESH-INTERVAL;VALUE=DURATION:PT1H
X-Robots-Tag:noindex
X-PUBLISHED-TTL:PT1H
BEGIN:VTIMEZONE
TZID:America/New_York
BEGIN:DAYLIGHT
TZOFFSETFROM:-0500
TZOFFSETTO:-0400
TZNAME:EDT
DTSTART:20270314T070000
END:DAYLIGHT
BEGIN:STANDARD
TZOFFSETFROM:-0400
TZOFFSETTO:-0500
TZNAME:EST
DTSTART:20271107T060000
END:STANDARD
BEGIN:DAYLIGHT
TZOFFSETFROM:-0500
TZOFFSETTO:-0400
TZNAME:EDT
DTSTART:20280312T070000
END:DAYLIGHT
BEGIN:STANDARD
TZOFFSETFROM:-0400
TZOFFSETTO:-0500
TZNAME:EST
DTSTART:20281105T060000
END:STANDARD
BEGIN:DAYLIGHT
TZOFFSETFROM:-0500
TZOFFSETTO:-0400
TZNAME:EDT
DTSTART:20290311T070000
END:DAYLIGHT
BEGIN:STANDARD
TZOFFSETFROM:-0400
TZOFFSETTO:-0500
TZNAME:EST
DTSTART:20291104T060000
END:STANDARD
END:VTIMEZONE
BEGIN:VEVENT
DTSTART;TZID=America/New_York:20280527T090000
DTEND;TZID=America/New_York:20280527T100000
DTSTAMP:20260421T123758
CREATED:20260330T174911Z
LAST-MODIFIED:20260330T185007Z
UID:10003298-1843030800-1843034400@www.fi-florida.org
SUMMARY:Parent Yoga Classes
DESCRIPTION:
URL:https://www.fi-florida.org/event/parent-yoga-classes/2028-05-27/
LOCATION:Golisano Autism Community Hub\, 3221 Chiquita Blvd S\, Cape Coral\, FL\, 33914\, United States
CATEGORIES:Parent Yoga
ATTACH;FMTTYPE=image/png:https://www.fi-florida.org/wp-content/uploads/2026/03/Free-Saturday-Yoga-1.png
ORGANIZER;CN="Family Initiative%2C Inc.":MAILTO:info@fi-florida.org
END:VEVENT
BEGIN:VEVENT
DTSTART;TZID=America/New_York:20280603T090000
DTEND;TZID=America/New_York:20280603T100000
DTSTAMP:20260421T123758
CREATED:20260330T174911Z
LAST-MODIFIED:20260330T185007Z
UID:10003299-1843635600-1843639200@www.fi-florida.org
SUMMARY:Parent Yoga Classes
DESCRIPTION:
URL:https://www.fi-florida.org/event/parent-yoga-classes/2028-06-03/
LOCATION:Golisano Autism Community Hub\, 3221 Chiquita Blvd S\, Cape Coral\, FL\, 33914\, United States
CATEGORIES:Parent Yoga
ATTACH;FMTTYPE=image/png:https://www.fi-florida.org/wp-content/uploads/2026/03/Free-Saturday-Yoga-1.png
ORGANIZER;CN="Family Initiative%2C Inc.":MAILTO:info@fi-florida.org
END:VEVENT
BEGIN:VEVENT
DTSTART;TZID=America/New_York:20280610T090000
DTEND;TZID=America/New_York:20280610T100000
DTSTAMP:20260421T123758
CREATED:20260330T174911Z
LAST-MODIFIED:20260330T185007Z
UID:10003300-1844240400-1844244000@www.fi-florida.org
SUMMARY:Parent Yoga Classes
DESCRIPTION:
URL:https://www.fi-florida.org/event/parent-yoga-classes/2028-06-10/
LOCATION:Golisano Autism Community Hub\, 3221 Chiquita Blvd S\, Cape Coral\, FL\, 33914\, United States
CATEGORIES:Parent Yoga
ATTACH;FMTTYPE=image/png:https://www.fi-florida.org/wp-content/uploads/2026/03/Free-Saturday-Yoga-1.png
ORGANIZER;CN="Family Initiative%2C Inc.":MAILTO:info@fi-florida.org
END:VEVENT
BEGIN:VEVENT
DTSTART;TZID=America/New_York:20280617T090000
DTEND;TZID=America/New_York:20280617T100000
DTSTAMP:20260421T123758
CREATED:20260330T174911Z
LAST-MODIFIED:20260330T185007Z
UID:10003301-1844845200-1844848800@www.fi-florida.org
SUMMARY:Parent Yoga Classes
DESCRIPTION:
URL:https://www.fi-florida.org/event/parent-yoga-classes/2028-06-17/
LOCATION:Golisano Autism Community Hub\, 3221 Chiquita Blvd S\, Cape Coral\, FL\, 33914\, United States
CATEGORIES:Parent Yoga
ATTACH;FMTTYPE=image/png:https://www.fi-florida.org/wp-content/uploads/2026/03/Free-Saturday-Yoga-1.png
ORGANIZER;CN="Family Initiative%2C Inc.":MAILTO:info@fi-florida.org
END:VEVENT
BEGIN:VEVENT
DTSTART;TZID=America/New_York:20280624T090000
DTEND;TZID=America/New_York:20280624T100000
DTSTAMP:20260421T123758
CREATED:20260330T174911Z
LAST-MODIFIED:20260330T185007Z
UID:10003302-1845450000-1845453600@www.fi-florida.org
SUMMARY:Parent Yoga Classes
DESCRIPTION:
URL:https://www.fi-florida.org/event/parent-yoga-classes/2028-06-24/
LOCATION:Golisano Autism Community Hub\, 3221 Chiquita Blvd S\, Cape Coral\, FL\, 33914\, United States
CATEGORIES:Parent Yoga
ATTACH;FMTTYPE=image/png:https://www.fi-florida.org/wp-content/uploads/2026/03/Free-Saturday-Yoga-1.png
ORGANIZER;CN="Family Initiative%2C Inc.":MAILTO:info@fi-florida.org
END:VEVENT
BEGIN:VEVENT
DTSTART;TZID=America/New_York:20280701T090000
DTEND;TZID=America/New_York:20280701T100000
DTSTAMP:20260421T123758
CREATED:20260330T174911Z
LAST-MODIFIED:20260330T185007Z
UID:10003303-1846054800-1846058400@www.fi-florida.org
SUMMARY:Parent Yoga Classes
DESCRIPTION:
URL:https://www.fi-florida.org/event/parent-yoga-classes/2028-07-01/
LOCATION:Golisano Autism Community Hub\, 3221 Chiquita Blvd S\, Cape Coral\, FL\, 33914\, United States
CATEGORIES:Parent Yoga
ATTACH;FMTTYPE=image/png:https://www.fi-florida.org/wp-content/uploads/2026/03/Free-Saturday-Yoga-1.png
ORGANIZER;CN="Family Initiative%2C Inc.":MAILTO:info@fi-florida.org
END:VEVENT
BEGIN:VEVENT
DTSTART;TZID=America/New_York:20280708T090000
DTEND;TZID=America/New_York:20280708T100000
DTSTAMP:20260421T123758
CREATED:20260330T174911Z
LAST-MODIFIED:20260330T185007Z
UID:10003304-1846659600-1846663200@www.fi-florida.org
SUMMARY:Parent Yoga Classes
DESCRIPTION:
URL:https://www.fi-florida.org/event/parent-yoga-classes/2028-07-08/
LOCATION:Golisano Autism Community Hub\, 3221 Chiquita Blvd S\, Cape Coral\, FL\, 33914\, United States
CATEGORIES:Parent Yoga
ATTACH;FMTTYPE=image/png:https://www.fi-florida.org/wp-content/uploads/2026/03/Free-Saturday-Yoga-1.png
ORGANIZER;CN="Family Initiative%2C Inc.":MAILTO:info@fi-florida.org
END:VEVENT
BEGIN:VEVENT
DTSTART;TZID=America/New_York:20280715T090000
DTEND;TZID=America/New_York:20280715T100000
DTSTAMP:20260421T123758
CREATED:20260330T174911Z
LAST-MODIFIED:20260330T185007Z
UID:10003305-1847264400-1847268000@www.fi-florida.org
SUMMARY:Parent Yoga Classes
DESCRIPTION:
URL:https://www.fi-florida.org/event/parent-yoga-classes/2028-07-15/
LOCATION:Golisano Autism Community Hub\, 3221 Chiquita Blvd S\, Cape Coral\, FL\, 33914\, United States
CATEGORIES:Parent Yoga
ATTACH;FMTTYPE=image/png:https://www.fi-florida.org/wp-content/uploads/2026/03/Free-Saturday-Yoga-1.png
ORGANIZER;CN="Family Initiative%2C Inc.":MAILTO:info@fi-florida.org
END:VEVENT
BEGIN:VEVENT
DTSTART;TZID=America/New_York:20280722T090000
DTEND;TZID=America/New_York:20280722T100000
DTSTAMP:20260421T123758
CREATED:20260330T174911Z
LAST-MODIFIED:20260330T185007Z
UID:10003306-1847869200-1847872800@www.fi-florida.org
SUMMARY:Parent Yoga Classes
DESCRIPTION:
URL:https://www.fi-florida.org/event/parent-yoga-classes/2028-07-22/
LOCATION:Golisano Autism Community Hub\, 3221 Chiquita Blvd S\, Cape Coral\, FL\, 33914\, United States
CATEGORIES:Parent Yoga
ATTACH;FMTTYPE=image/png:https://www.fi-florida.org/wp-content/uploads/2026/03/Free-Saturday-Yoga-1.png
ORGANIZER;CN="Family Initiative%2C Inc.":MAILTO:info@fi-florida.org
END:VEVENT
BEGIN:VEVENT
DTSTART;TZID=America/New_York:20280729T090000
DTEND;TZID=America/New_York:20280729T100000
DTSTAMP:20260421T123758
CREATED:20260330T174911Z
LAST-MODIFIED:20260330T185007Z
UID:10003307-1848474000-1848477600@www.fi-florida.org
SUMMARY:Parent Yoga Classes
DESCRIPTION:
URL:https://www.fi-florida.org/event/parent-yoga-classes/2028-07-29/
LOCATION:Golisano Autism Community Hub\, 3221 Chiquita Blvd S\, Cape Coral\, FL\, 33914\, United States
CATEGORIES:Parent Yoga
ATTACH;FMTTYPE=image/png:https://www.fi-florida.org/wp-content/uploads/2026/03/Free-Saturday-Yoga-1.png
ORGANIZER;CN="Family Initiative%2C Inc.":MAILTO:info@fi-florida.org
END:VEVENT
BEGIN:VEVENT
DTSTART;TZID=America/New_York:20280805T090000
DTEND;TZID=America/New_York:20280805T100000
DTSTAMP:20260421T123758
CREATED:20260330T174911Z
LAST-MODIFIED:20260330T185007Z
UID:10003308-1849078800-1849082400@www.fi-florida.org
SUMMARY:Parent Yoga Classes
DESCRIPTION:
URL:https://www.fi-florida.org/event/parent-yoga-classes/2028-08-05/
LOCATION:Golisano Autism Community Hub\, 3221 Chiquita Blvd S\, Cape Coral\, FL\, 33914\, United States
CATEGORIES:Parent Yoga
ATTACH;FMTTYPE=image/png:https://www.fi-florida.org/wp-content/uploads/2026/03/Free-Saturday-Yoga-1.png
ORGANIZER;CN="Family Initiative%2C Inc.":MAILTO:info@fi-florida.org
END:VEVENT
BEGIN:VEVENT
DTSTART;TZID=America/New_York:20280812T090000
DTEND;TZID=America/New_York:20280812T100000
DTSTAMP:20260421T123758
CREATED:20260330T174911Z
LAST-MODIFIED:20260330T185007Z
UID:10003309-1849683600-1849687200@www.fi-florida.org
SUMMARY:Parent Yoga Classes
DESCRIPTION:
URL:https://www.fi-florida.org/event/parent-yoga-classes/2028-08-12/
LOCATION:Golisano Autism Community Hub\, 3221 Chiquita Blvd S\, Cape Coral\, FL\, 33914\, United States
CATEGORIES:Parent Yoga
ATTACH;FMTTYPE=image/png:https://www.fi-florida.org/wp-content/uploads/2026/03/Free-Saturday-Yoga-1.png
ORGANIZER;CN="Family Initiative%2C Inc.":MAILTO:info@fi-florida.org
END:VEVENT
BEGIN:VEVENT
DTSTART;TZID=America/New_York:20280819T090000
DTEND;TZID=America/New_York:20280819T100000
DTSTAMP:20260421T123758
CREATED:20260330T174911Z
LAST-MODIFIED:20260330T185007Z
UID:10003310-1850288400-1850292000@www.fi-florida.org
SUMMARY:Parent Yoga Classes
DESCRIPTION:
URL:https://www.fi-florida.org/event/parent-yoga-classes/2028-08-19/
LOCATION:Golisano Autism Community Hub\, 3221 Chiquita Blvd S\, Cape Coral\, FL\, 33914\, United States
CATEGORIES:Parent Yoga
ATTACH;FMTTYPE=image/png:https://www.fi-florida.org/wp-content/uploads/2026/03/Free-Saturday-Yoga-1.png
ORGANIZER;CN="Family Initiative%2C Inc.":MAILTO:info@fi-florida.org
END:VEVENT
BEGIN:VEVENT
DTSTART;TZID=America/New_York:20280826T090000
DTEND;TZID=America/New_York:20280826T100000
DTSTAMP:20260421T123758
CREATED:20260330T174911Z
LAST-MODIFIED:20260330T185007Z
UID:10003311-1850893200-1850896800@www.fi-florida.org
SUMMARY:Parent Yoga Classes
DESCRIPTION:
URL:https://www.fi-florida.org/event/parent-yoga-classes/2028-08-26/
LOCATION:Golisano Autism Community Hub\, 3221 Chiquita Blvd S\, Cape Coral\, FL\, 33914\, United States
CATEGORIES:Parent Yoga
ATTACH;FMTTYPE=image/png:https://www.fi-florida.org/wp-content/uploads/2026/03/Free-Saturday-Yoga-1.png
ORGANIZER;CN="Family Initiative%2C Inc.":MAILTO:info@fi-florida.org
END:VEVENT
BEGIN:VEVENT
DTSTART;TZID=America/New_York:20280902T090000
DTEND;TZID=America/New_York:20280902T100000
DTSTAMP:20260421T123758
CREATED:20260330T174911Z
LAST-MODIFIED:20260330T185007Z
UID:10003312-1851498000-1851501600@www.fi-florida.org
SUMMARY:Parent Yoga Classes
DESCRIPTION:
URL:https://www.fi-florida.org/event/parent-yoga-classes/2028-09-02/
LOCATION:Golisano Autism Community Hub\, 3221 Chiquita Blvd S\, Cape Coral\, FL\, 33914\, United States
CATEGORIES:Parent Yoga
ATTACH;FMTTYPE=image/png:https://www.fi-florida.org/wp-content/uploads/2026/03/Free-Saturday-Yoga-1.png
ORGANIZER;CN="Family Initiative%2C Inc.":MAILTO:info@fi-florida.org
END:VEVENT
BEGIN:VEVENT
DTSTART;TZID=America/New_York:20280909T090000
DTEND;TZID=America/New_York:20280909T100000
DTSTAMP:20260421T123758
CREATED:20260330T174911Z
LAST-MODIFIED:20260330T185007Z
UID:10003313-1852102800-1852106400@www.fi-florida.org
SUMMARY:Parent Yoga Classes
DESCRIPTION:
URL:https://www.fi-florida.org/event/parent-yoga-classes/2028-09-09/
LOCATION:Golisano Autism Community Hub\, 3221 Chiquita Blvd S\, Cape Coral\, FL\, 33914\, United States
CATEGORIES:Parent Yoga
ATTACH;FMTTYPE=image/png:https://www.fi-florida.org/wp-content/uploads/2026/03/Free-Saturday-Yoga-1.png
ORGANIZER;CN="Family Initiative%2C Inc.":MAILTO:info@fi-florida.org
END:VEVENT
BEGIN:VEVENT
DTSTART;TZID=America/New_York:20280916T090000
DTEND;TZID=America/New_York:20280916T100000
DTSTAMP:20260421T123758
CREATED:20260330T174911Z
LAST-MODIFIED:20260330T185007Z
UID:10003314-1852707600-1852711200@www.fi-florida.org
SUMMARY:Parent Yoga Classes
DESCRIPTION:
URL:https://www.fi-florida.org/event/parent-yoga-classes/2028-09-16/
LOCATION:Golisano Autism Community Hub\, 3221 Chiquita Blvd S\, Cape Coral\, FL\, 33914\, United States
CATEGORIES:Parent Yoga
ATTACH;FMTTYPE=image/png:https://www.fi-florida.org/wp-content/uploads/2026/03/Free-Saturday-Yoga-1.png
ORGANIZER;CN="Family Initiative%2C Inc.":MAILTO:info@fi-florida.org
END:VEVENT
BEGIN:VEVENT
DTSTART;TZID=America/New_York:20280923T090000
DTEND;TZID=America/New_York:20280923T100000
DTSTAMP:20260421T123758
CREATED:20260330T174911Z
LAST-MODIFIED:20260330T185007Z
UID:10003315-1853312400-1853316000@www.fi-florida.org
SUMMARY:Parent Yoga Classes
DESCRIPTION:
URL:https://www.fi-florida.org/event/parent-yoga-classes/2028-09-23/
LOCATION:Golisano Autism Community Hub\, 3221 Chiquita Blvd S\, Cape Coral\, FL\, 33914\, United States
CATEGORIES:Parent Yoga
ATTACH;FMTTYPE=image/png:https://www.fi-florida.org/wp-content/uploads/2026/03/Free-Saturday-Yoga-1.png
ORGANIZER;CN="Family Initiative%2C Inc.":MAILTO:info@fi-florida.org
END:VEVENT
BEGIN:VEVENT
DTSTART;TZID=America/New_York:20280930T090000
DTEND;TZID=America/New_York:20280930T100000
DTSTAMP:20260421T123758
CREATED:20260330T174911Z
LAST-MODIFIED:20260330T185007Z
UID:10003316-1853917200-1853920800@www.fi-florida.org
SUMMARY:Parent Yoga Classes
DESCRIPTION:
URL:https://www.fi-florida.org/event/parent-yoga-classes/2028-09-30/
LOCATION:Golisano Autism Community Hub\, 3221 Chiquita Blvd S\, Cape Coral\, FL\, 33914\, United States
CATEGORIES:Parent Yoga
ATTACH;FMTTYPE=image/png:https://www.fi-florida.org/wp-content/uploads/2026/03/Free-Saturday-Yoga-1.png
ORGANIZER;CN="Family Initiative%2C Inc.":MAILTO:info@fi-florida.org
END:VEVENT
BEGIN:VEVENT
DTSTART;TZID=America/New_York:20281007T090000
DTEND;TZID=America/New_York:20281007T100000
DTSTAMP:20260421T123758
CREATED:20260330T174911Z
LAST-MODIFIED:20260330T185007Z
UID:10003317-1854522000-1854525600@www.fi-florida.org
SUMMARY:Parent Yoga Classes
DESCRIPTION:
URL:https://www.fi-florida.org/event/parent-yoga-classes/2028-10-07/
LOCATION:Golisano Autism Community Hub\, 3221 Chiquita Blvd S\, Cape Coral\, FL\, 33914\, United States
CATEGORIES:Parent Yoga
ATTACH;FMTTYPE=image/png:https://www.fi-florida.org/wp-content/uploads/2026/03/Free-Saturday-Yoga-1.png
ORGANIZER;CN="Family Initiative%2C Inc.":MAILTO:info@fi-florida.org
END:VEVENT
BEGIN:VEVENT
DTSTART;TZID=America/New_York:20281014T090000
DTEND;TZID=America/New_York:20281014T100000
DTSTAMP:20260421T123758
CREATED:20260330T174911Z
LAST-MODIFIED:20260330T185007Z
UID:10003318-1855126800-1855130400@www.fi-florida.org
SUMMARY:Parent Yoga Classes
DESCRIPTION:
URL:https://www.fi-florida.org/event/parent-yoga-classes/2028-10-14/
LOCATION:Golisano Autism Community Hub\, 3221 Chiquita Blvd S\, Cape Coral\, FL\, 33914\, United States
CATEGORIES:Parent Yoga
ATTACH;FMTTYPE=image/png:https://www.fi-florida.org/wp-content/uploads/2026/03/Free-Saturday-Yoga-1.png
ORGANIZER;CN="Family Initiative%2C Inc.":MAILTO:info@fi-florida.org
END:VEVENT
BEGIN:VEVENT
DTSTART;TZID=America/New_York:20281021T090000
DTEND;TZID=America/New_York:20281021T100000
DTSTAMP:20260421T123758
CREATED:20260330T174911Z
LAST-MODIFIED:20260330T185007Z
UID:10003319-1855731600-1855735200@www.fi-florida.org
SUMMARY:Parent Yoga Classes
DESCRIPTION:
URL:https://www.fi-florida.org/event/parent-yoga-classes/2028-10-21/
LOCATION:Golisano Autism Community Hub\, 3221 Chiquita Blvd S\, Cape Coral\, FL\, 33914\, United States
CATEGORIES:Parent Yoga
ATTACH;FMTTYPE=image/png:https://www.fi-florida.org/wp-content/uploads/2026/03/Free-Saturday-Yoga-1.png
ORGANIZER;CN="Family Initiative%2C Inc.":MAILTO:info@fi-florida.org
END:VEVENT
BEGIN:VEVENT
DTSTART;TZID=America/New_York:20281028T090000
DTEND;TZID=America/New_York:20281028T100000
DTSTAMP:20260421T123758
CREATED:20260330T174911Z
LAST-MODIFIED:20260330T185007Z
UID:10003320-1856336400-1856340000@www.fi-florida.org
SUMMARY:Parent Yoga Classes
DESCRIPTION:
URL:https://www.fi-florida.org/event/parent-yoga-classes/2028-10-28/
LOCATION:Golisano Autism Community Hub\, 3221 Chiquita Blvd S\, Cape Coral\, FL\, 33914\, United States
CATEGORIES:Parent Yoga
ATTACH;FMTTYPE=image/png:https://www.fi-florida.org/wp-content/uploads/2026/03/Free-Saturday-Yoga-1.png
ORGANIZER;CN="Family Initiative%2C Inc.":MAILTO:info@fi-florida.org
END:VEVENT
BEGIN:VEVENT
DTSTART;TZID=America/New_York:20281104T090000
DTEND;TZID=America/New_York:20281104T100000
DTSTAMP:20260421T123758
CREATED:20260330T174911Z
LAST-MODIFIED:20260330T185007Z
UID:10003321-1856941200-1856944800@www.fi-florida.org
SUMMARY:Parent Yoga Classes
DESCRIPTION:
URL:https://www.fi-florida.org/event/parent-yoga-classes/2028-11-04/
LOCATION:Golisano Autism Community Hub\, 3221 Chiquita Blvd S\, Cape Coral\, FL\, 33914\, United States
CATEGORIES:Parent Yoga
ATTACH;FMTTYPE=image/png:https://www.fi-florida.org/wp-content/uploads/2026/03/Free-Saturday-Yoga-1.png
ORGANIZER;CN="Family Initiative%2C Inc.":MAILTO:info@fi-florida.org
END:VEVENT
BEGIN:VEVENT
DTSTART;TZID=America/New_York:20281111T090000
DTEND;TZID=America/New_York:20281111T100000
DTSTAMP:20260421T123758
CREATED:20260330T174911Z
LAST-MODIFIED:20260330T185007Z
UID:10003322-1857546000-1857549600@www.fi-florida.org
SUMMARY:Parent Yoga Classes
DESCRIPTION:
URL:https://www.fi-florida.org/event/parent-yoga-classes/2028-11-11/
LOCATION:Golisano Autism Community Hub\, 3221 Chiquita Blvd S\, Cape Coral\, FL\, 33914\, United States
CATEGORIES:Parent Yoga
ATTACH;FMTTYPE=image/png:https://www.fi-florida.org/wp-content/uploads/2026/03/Free-Saturday-Yoga-1.png
ORGANIZER;CN="Family Initiative%2C Inc.":MAILTO:info@fi-florida.org
END:VEVENT
BEGIN:VEVENT
DTSTART;TZID=America/New_York:20281118T090000
DTEND;TZID=America/New_York:20281118T100000
DTSTAMP:20260421T123758
CREATED:20260330T174911Z
LAST-MODIFIED:20260330T185007Z
UID:10003323-1858150800-1858154400@www.fi-florida.org
SUMMARY:Parent Yoga Classes
DESCRIPTION:
URL:https://www.fi-florida.org/event/parent-yoga-classes/2028-11-18/
LOCATION:Golisano Autism Community Hub\, 3221 Chiquita Blvd S\, Cape Coral\, FL\, 33914\, United States
CATEGORIES:Parent Yoga
ATTACH;FMTTYPE=image/png:https://www.fi-florida.org/wp-content/uploads/2026/03/Free-Saturday-Yoga-1.png
ORGANIZER;CN="Family Initiative%2C Inc.":MAILTO:info@fi-florida.org
END:VEVENT
BEGIN:VEVENT
DTSTART;TZID=America/New_York:20281125T090000
DTEND;TZID=America/New_York:20281125T100000
DTSTAMP:20260421T123758
CREATED:20260330T174911Z
LAST-MODIFIED:20260330T185007Z
UID:10003324-1858755600-1858759200@www.fi-florida.org
SUMMARY:Parent Yoga Classes
DESCRIPTION:
URL:https://www.fi-florida.org/event/parent-yoga-classes/2028-11-25/
LOCATION:Golisano Autism Community Hub\, 3221 Chiquita Blvd S\, Cape Coral\, FL\, 33914\, United States
CATEGORIES:Parent Yoga
ATTACH;FMTTYPE=image/png:https://www.fi-florida.org/wp-content/uploads/2026/03/Free-Saturday-Yoga-1.png
ORGANIZER;CN="Family Initiative%2C Inc.":MAILTO:info@fi-florida.org
END:VEVENT
BEGIN:VEVENT
DTSTART;TZID=America/New_York:20281202T090000
DTEND;TZID=America/New_York:20281202T100000
DTSTAMP:20260421T123758
CREATED:20260330T174911Z
LAST-MODIFIED:20260330T185007Z
UID:10003325-1859360400-1859364000@www.fi-florida.org
SUMMARY:Parent Yoga Classes
DESCRIPTION:
URL:https://www.fi-florida.org/event/parent-yoga-classes/2028-12-02/
LOCATION:Golisano Autism Community Hub\, 3221 Chiquita Blvd S\, Cape Coral\, FL\, 33914\, United States
CATEGORIES:Parent Yoga
ATTACH;FMTTYPE=image/png:https://www.fi-florida.org/wp-content/uploads/2026/03/Free-Saturday-Yoga-1.png
ORGANIZER;CN="Family Initiative%2C Inc.":MAILTO:info@fi-florida.org
END:VEVENT
BEGIN:VEVENT
DTSTART;TZID=America/New_York:20281209T090000
DTEND;TZID=America/New_York:20281209T100000
DTSTAMP:20260421T123758
CREATED:20260330T174911Z
LAST-MODIFIED:20260330T185007Z
UID:10003326-1859965200-1859968800@www.fi-florida.org
SUMMARY:Parent Yoga Classes
DESCRIPTION:
URL:https://www.fi-florida.org/event/parent-yoga-classes/2028-12-09/
LOCATION:Golisano Autism Community Hub\, 3221 Chiquita Blvd S\, Cape Coral\, FL\, 33914\, United States
CATEGORIES:Parent Yoga
ATTACH;FMTTYPE=image/png:https://www.fi-florida.org/wp-content/uploads/2026/03/Free-Saturday-Yoga-1.png
ORGANIZER;CN="Family Initiative%2C Inc.":MAILTO:info@fi-florida.org
END:VEVENT
BEGIN:VEVENT
DTSTART;TZID=America/New_York:20281216T090000
DTEND;TZID=America/New_York:20281216T100000
DTSTAMP:20260421T123758
CREATED:20260330T174911Z
LAST-MODIFIED:20260330T185007Z
UID:10003327-1860570000-1860573600@www.fi-florida.org
SUMMARY:Parent Yoga Classes
DESCRIPTION:
URL:https://www.fi-florida.org/event/parent-yoga-classes/2028-12-16/
LOCATION:Golisano Autism Community Hub\, 3221 Chiquita Blvd S\, Cape Coral\, FL\, 33914\, United States
CATEGORIES:Parent Yoga
ATTACH;FMTTYPE=image/png:https://www.fi-florida.org/wp-content/uploads/2026/03/Free-Saturday-Yoga-1.png
ORGANIZER;CN="Family Initiative%2C Inc.":MAILTO:info@fi-florida.org
END:VEVENT
END:VCALENDAR