BEGIN:VCALENDAR
VERSION:2.0
PRODID:-//Family Initiative, Inc. - ECPv6.15.20//NONSGML v1.0//EN
CALSCALE:GREGORIAN
METHOD:PUBLISH
X-WR-CALNAME:Family Initiative, Inc.
X-ORIGINAL-URL:https://www.fi-florida.org
X-WR-CALDESC:Events for Family Initiative, Inc.
REFRESH-INTERVAL;VALUE=DURATION:PT1H
X-Robots-Tag:noindex
X-PUBLISHED-TTL:PT1H
BEGIN:VTIMEZONE
TZID:America/New_York
BEGIN:DAYLIGHT
TZOFFSETFROM:-0500
TZOFFSETTO:-0400
TZNAME:EDT
DTSTART:20280312T070000
END:DAYLIGHT
BEGIN:STANDARD
TZOFFSETFROM:-0400
TZOFFSETTO:-0500
TZNAME:EST
DTSTART:20281105T060000
END:STANDARD
BEGIN:DAYLIGHT
TZOFFSETFROM:-0500
TZOFFSETTO:-0400
TZNAME:EDT
DTSTART:20290311T070000
END:DAYLIGHT
BEGIN:STANDARD
TZOFFSETFROM:-0400
TZOFFSETTO:-0500
TZNAME:EST
DTSTART:20291104T060000
END:STANDARD
BEGIN:DAYLIGHT
TZOFFSETFROM:-0500
TZOFFSETTO:-0400
TZNAME:EDT
DTSTART:20300310T070000
END:DAYLIGHT
BEGIN:STANDARD
TZOFFSETFROM:-0400
TZOFFSETTO:-0500
TZNAME:EST
DTSTART:20301103T060000
END:STANDARD
END:VTIMEZONE
BEGIN:VEVENT
DTSTART;TZID=America/New_York:20290203T090000
DTEND;TZID=America/New_York:20290203T100000
DTSTAMP:20260425T101536
CREATED:20260330T174911Z
LAST-MODIFIED:20260330T185007Z
UID:10003334-1864803600-1864807200@www.fi-florida.org
SUMMARY:Parent Yoga Classes
DESCRIPTION:
URL:https://www.fi-florida.org/event/parent-yoga-classes/2029-02-03/
LOCATION:Golisano Autism Community Hub\, 3221 Chiquita Blvd S\, Cape Coral\, FL\, 33914\, United States
CATEGORIES:Parent Yoga
ATTACH;FMTTYPE=image/png:https://www.fi-florida.org/wp-content/uploads/2026/03/Free-Saturday-Yoga-1.png
ORGANIZER;CN="Family Initiative%2C Inc.":MAILTO:info@fi-florida.org
END:VEVENT
BEGIN:VEVENT
DTSTART;TZID=America/New_York:20290210T090000
DTEND;TZID=America/New_York:20290210T100000
DTSTAMP:20260425T101536
CREATED:20260330T174911Z
LAST-MODIFIED:20260330T185007Z
UID:10003335-1865408400-1865412000@www.fi-florida.org
SUMMARY:Parent Yoga Classes
DESCRIPTION:
URL:https://www.fi-florida.org/event/parent-yoga-classes/2029-02-10/
LOCATION:Golisano Autism Community Hub\, 3221 Chiquita Blvd S\, Cape Coral\, FL\, 33914\, United States
CATEGORIES:Parent Yoga
ATTACH;FMTTYPE=image/png:https://www.fi-florida.org/wp-content/uploads/2026/03/Free-Saturday-Yoga-1.png
ORGANIZER;CN="Family Initiative%2C Inc.":MAILTO:info@fi-florida.org
END:VEVENT
BEGIN:VEVENT
DTSTART;TZID=America/New_York:20290217T090000
DTEND;TZID=America/New_York:20290217T100000
DTSTAMP:20260425T101536
CREATED:20260330T174911Z
LAST-MODIFIED:20260330T185007Z
UID:10003336-1866013200-1866016800@www.fi-florida.org
SUMMARY:Parent Yoga Classes
DESCRIPTION:
URL:https://www.fi-florida.org/event/parent-yoga-classes/2029-02-17/
LOCATION:Golisano Autism Community Hub\, 3221 Chiquita Blvd S\, Cape Coral\, FL\, 33914\, United States
CATEGORIES:Parent Yoga
ATTACH;FMTTYPE=image/png:https://www.fi-florida.org/wp-content/uploads/2026/03/Free-Saturday-Yoga-1.png
ORGANIZER;CN="Family Initiative%2C Inc.":MAILTO:info@fi-florida.org
END:VEVENT
BEGIN:VEVENT
DTSTART;TZID=America/New_York:20290224T090000
DTEND;TZID=America/New_York:20290224T100000
DTSTAMP:20260425T101536
CREATED:20260330T174911Z
LAST-MODIFIED:20260330T185007Z
UID:10003337-1866618000-1866621600@www.fi-florida.org
SUMMARY:Parent Yoga Classes
DESCRIPTION:
URL:https://www.fi-florida.org/event/parent-yoga-classes/2029-02-24/
LOCATION:Golisano Autism Community Hub\, 3221 Chiquita Blvd S\, Cape Coral\, FL\, 33914\, United States
CATEGORIES:Parent Yoga
ATTACH;FMTTYPE=image/png:https://www.fi-florida.org/wp-content/uploads/2026/03/Free-Saturday-Yoga-1.png
ORGANIZER;CN="Family Initiative%2C Inc.":MAILTO:info@fi-florida.org
END:VEVENT
BEGIN:VEVENT
DTSTART;TZID=America/New_York:20290303T090000
DTEND;TZID=America/New_York:20290303T100000
DTSTAMP:20260425T101536
CREATED:20260330T174911Z
LAST-MODIFIED:20260330T185007Z
UID:10003338-1867222800-1867226400@www.fi-florida.org
SUMMARY:Parent Yoga Classes
DESCRIPTION:
URL:https://www.fi-florida.org/event/parent-yoga-classes/2029-03-03/
LOCATION:Golisano Autism Community Hub\, 3221 Chiquita Blvd S\, Cape Coral\, FL\, 33914\, United States
CATEGORIES:Parent Yoga
ATTACH;FMTTYPE=image/png:https://www.fi-florida.org/wp-content/uploads/2026/03/Free-Saturday-Yoga-1.png
ORGANIZER;CN="Family Initiative%2C Inc.":MAILTO:info@fi-florida.org
END:VEVENT
BEGIN:VEVENT
DTSTART;TZID=America/New_York:20290310T090000
DTEND;TZID=America/New_York:20290310T100000
DTSTAMP:20260425T101536
CREATED:20260330T174911Z
LAST-MODIFIED:20260330T185007Z
UID:10003339-1867827600-1867831200@www.fi-florida.org
SUMMARY:Parent Yoga Classes
DESCRIPTION:
URL:https://www.fi-florida.org/event/parent-yoga-classes/2029-03-10/
LOCATION:Golisano Autism Community Hub\, 3221 Chiquita Blvd S\, Cape Coral\, FL\, 33914\, United States
CATEGORIES:Parent Yoga
ATTACH;FMTTYPE=image/png:https://www.fi-florida.org/wp-content/uploads/2026/03/Free-Saturday-Yoga-1.png
ORGANIZER;CN="Family Initiative%2C Inc.":MAILTO:info@fi-florida.org
END:VEVENT
BEGIN:VEVENT
DTSTART;TZID=America/New_York:20290317T090000
DTEND;TZID=America/New_York:20290317T100000
DTSTAMP:20260425T101536
CREATED:20260330T174911Z
LAST-MODIFIED:20260330T185007Z
UID:10003340-1868432400-1868436000@www.fi-florida.org
SUMMARY:Parent Yoga Classes
DESCRIPTION:
URL:https://www.fi-florida.org/event/parent-yoga-classes/2029-03-17/
LOCATION:Golisano Autism Community Hub\, 3221 Chiquita Blvd S\, Cape Coral\, FL\, 33914\, United States
CATEGORIES:Parent Yoga
ATTACH;FMTTYPE=image/png:https://www.fi-florida.org/wp-content/uploads/2026/03/Free-Saturday-Yoga-1.png
ORGANIZER;CN="Family Initiative%2C Inc.":MAILTO:info@fi-florida.org
END:VEVENT
BEGIN:VEVENT
DTSTART;TZID=America/New_York:20290324T090000
DTEND;TZID=America/New_York:20290324T100000
DTSTAMP:20260425T101536
CREATED:20260330T174911Z
LAST-MODIFIED:20260330T185007Z
UID:10003341-1869037200-1869040800@www.fi-florida.org
SUMMARY:Parent Yoga Classes
DESCRIPTION:
URL:https://www.fi-florida.org/event/parent-yoga-classes/2029-03-24/
LOCATION:Golisano Autism Community Hub\, 3221 Chiquita Blvd S\, Cape Coral\, FL\, 33914\, United States
CATEGORIES:Parent Yoga
ATTACH;FMTTYPE=image/png:https://www.fi-florida.org/wp-content/uploads/2026/03/Free-Saturday-Yoga-1.png
ORGANIZER;CN="Family Initiative%2C Inc.":MAILTO:info@fi-florida.org
END:VEVENT
BEGIN:VEVENT
DTSTART;TZID=America/New_York:20290331T090000
DTEND;TZID=America/New_York:20290331T100000
DTSTAMP:20260425T101536
CREATED:20260330T174911Z
LAST-MODIFIED:20260330T185007Z
UID:10003342-1869642000-1869645600@www.fi-florida.org
SUMMARY:Parent Yoga Classes
DESCRIPTION:
URL:https://www.fi-florida.org/event/parent-yoga-classes/2029-03-31/
LOCATION:Golisano Autism Community Hub\, 3221 Chiquita Blvd S\, Cape Coral\, FL\, 33914\, United States
CATEGORIES:Parent Yoga
ATTACH;FMTTYPE=image/png:https://www.fi-florida.org/wp-content/uploads/2026/03/Free-Saturday-Yoga-1.png
ORGANIZER;CN="Family Initiative%2C Inc.":MAILTO:info@fi-florida.org
END:VEVENT
BEGIN:VEVENT
DTSTART;TZID=America/New_York:20290407T090000
DTEND;TZID=America/New_York:20290407T100000
DTSTAMP:20260425T101536
CREATED:20260330T174911Z
LAST-MODIFIED:20260330T185007Z
UID:10003343-1870246800-1870250400@www.fi-florida.org
SUMMARY:Parent Yoga Classes
DESCRIPTION:
URL:https://www.fi-florida.org/event/parent-yoga-classes/2029-04-07/
LOCATION:Golisano Autism Community Hub\, 3221 Chiquita Blvd S\, Cape Coral\, FL\, 33914\, United States
CATEGORIES:Parent Yoga
ATTACH;FMTTYPE=image/png:https://www.fi-florida.org/wp-content/uploads/2026/03/Free-Saturday-Yoga-1.png
ORGANIZER;CN="Family Initiative%2C Inc.":MAILTO:info@fi-florida.org
END:VEVENT
BEGIN:VEVENT
DTSTART;TZID=America/New_York:20290414T090000
DTEND;TZID=America/New_York:20290414T100000
DTSTAMP:20260425T101536
CREATED:20260330T174911Z
LAST-MODIFIED:20260330T185007Z
UID:10003344-1870851600-1870855200@www.fi-florida.org
SUMMARY:Parent Yoga Classes
DESCRIPTION:
URL:https://www.fi-florida.org/event/parent-yoga-classes/2029-04-14/
LOCATION:Golisano Autism Community Hub\, 3221 Chiquita Blvd S\, Cape Coral\, FL\, 33914\, United States
CATEGORIES:Parent Yoga
ATTACH;FMTTYPE=image/png:https://www.fi-florida.org/wp-content/uploads/2026/03/Free-Saturday-Yoga-1.png
ORGANIZER;CN="Family Initiative%2C Inc.":MAILTO:info@fi-florida.org
END:VEVENT
BEGIN:VEVENT
DTSTART;TZID=America/New_York:20290421T090000
DTEND;TZID=America/New_York:20290421T100000
DTSTAMP:20260425T101536
CREATED:20260330T174911Z
LAST-MODIFIED:20260330T185007Z
UID:10003345-1871456400-1871460000@www.fi-florida.org
SUMMARY:Parent Yoga Classes
DESCRIPTION:
URL:https://www.fi-florida.org/event/parent-yoga-classes/2029-04-21/
LOCATION:Golisano Autism Community Hub\, 3221 Chiquita Blvd S\, Cape Coral\, FL\, 33914\, United States
CATEGORIES:Parent Yoga
ATTACH;FMTTYPE=image/png:https://www.fi-florida.org/wp-content/uploads/2026/03/Free-Saturday-Yoga-1.png
ORGANIZER;CN="Family Initiative%2C Inc.":MAILTO:info@fi-florida.org
END:VEVENT
BEGIN:VEVENT
DTSTART;TZID=America/New_York:20290428T090000
DTEND;TZID=America/New_York:20290428T100000
DTSTAMP:20260425T101536
CREATED:20260330T174911Z
LAST-MODIFIED:20260330T185007Z
UID:10003346-1872061200-1872064800@www.fi-florida.org
SUMMARY:Parent Yoga Classes
DESCRIPTION:
URL:https://www.fi-florida.org/event/parent-yoga-classes/2029-04-28/
LOCATION:Golisano Autism Community Hub\, 3221 Chiquita Blvd S\, Cape Coral\, FL\, 33914\, United States
CATEGORIES:Parent Yoga
ATTACH;FMTTYPE=image/png:https://www.fi-florida.org/wp-content/uploads/2026/03/Free-Saturday-Yoga-1.png
ORGANIZER;CN="Family Initiative%2C Inc.":MAILTO:info@fi-florida.org
END:VEVENT
BEGIN:VEVENT
DTSTART;TZID=America/New_York:20290505T090000
DTEND;TZID=America/New_York:20290505T100000
DTSTAMP:20260425T101536
CREATED:20260330T174911Z
LAST-MODIFIED:20260330T185007Z
UID:10003347-1872666000-1872669600@www.fi-florida.org
SUMMARY:Parent Yoga Classes
DESCRIPTION:
URL:https://www.fi-florida.org/event/parent-yoga-classes/2029-05-05/
LOCATION:Golisano Autism Community Hub\, 3221 Chiquita Blvd S\, Cape Coral\, FL\, 33914\, United States
CATEGORIES:Parent Yoga
ATTACH;FMTTYPE=image/png:https://www.fi-florida.org/wp-content/uploads/2026/03/Free-Saturday-Yoga-1.png
ORGANIZER;CN="Family Initiative%2C Inc.":MAILTO:info@fi-florida.org
END:VEVENT
BEGIN:VEVENT
DTSTART;TZID=America/New_York:20290512T090000
DTEND;TZID=America/New_York:20290512T100000
DTSTAMP:20260425T101536
CREATED:20260330T174911Z
LAST-MODIFIED:20260330T185007Z
UID:10003348-1873270800-1873274400@www.fi-florida.org
SUMMARY:Parent Yoga Classes
DESCRIPTION:
URL:https://www.fi-florida.org/event/parent-yoga-classes/2029-05-12/
LOCATION:Golisano Autism Community Hub\, 3221 Chiquita Blvd S\, Cape Coral\, FL\, 33914\, United States
CATEGORIES:Parent Yoga
ATTACH;FMTTYPE=image/png:https://www.fi-florida.org/wp-content/uploads/2026/03/Free-Saturday-Yoga-1.png
ORGANIZER;CN="Family Initiative%2C Inc.":MAILTO:info@fi-florida.org
END:VEVENT
BEGIN:VEVENT
DTSTART;TZID=America/New_York:20290519T090000
DTEND;TZID=America/New_York:20290519T100000
DTSTAMP:20260425T101536
CREATED:20260330T174911Z
LAST-MODIFIED:20260330T185007Z
UID:10003349-1873875600-1873879200@www.fi-florida.org
SUMMARY:Parent Yoga Classes
DESCRIPTION:
URL:https://www.fi-florida.org/event/parent-yoga-classes/2029-05-19/
LOCATION:Golisano Autism Community Hub\, 3221 Chiquita Blvd S\, Cape Coral\, FL\, 33914\, United States
CATEGORIES:Parent Yoga
ATTACH;FMTTYPE=image/png:https://www.fi-florida.org/wp-content/uploads/2026/03/Free-Saturday-Yoga-1.png
ORGANIZER;CN="Family Initiative%2C Inc.":MAILTO:info@fi-florida.org
END:VEVENT
BEGIN:VEVENT
DTSTART;TZID=America/New_York:20290526T090000
DTEND;TZID=America/New_York:20290526T100000
DTSTAMP:20260425T101536
CREATED:20260330T174911Z
LAST-MODIFIED:20260330T185007Z
UID:10003350-1874480400-1874484000@www.fi-florida.org
SUMMARY:Parent Yoga Classes
DESCRIPTION:
URL:https://www.fi-florida.org/event/parent-yoga-classes/2029-05-26/
LOCATION:Golisano Autism Community Hub\, 3221 Chiquita Blvd S\, Cape Coral\, FL\, 33914\, United States
CATEGORIES:Parent Yoga
ATTACH;FMTTYPE=image/png:https://www.fi-florida.org/wp-content/uploads/2026/03/Free-Saturday-Yoga-1.png
ORGANIZER;CN="Family Initiative%2C Inc.":MAILTO:info@fi-florida.org
END:VEVENT
BEGIN:VEVENT
DTSTART;TZID=America/New_York:20290602T090000
DTEND;TZID=America/New_York:20290602T100000
DTSTAMP:20260425T101536
CREATED:20260330T174911Z
LAST-MODIFIED:20260330T185007Z
UID:10003351-1875085200-1875088800@www.fi-florida.org
SUMMARY:Parent Yoga Classes
DESCRIPTION:
URL:https://www.fi-florida.org/event/parent-yoga-classes/2029-06-02/
LOCATION:Golisano Autism Community Hub\, 3221 Chiquita Blvd S\, Cape Coral\, FL\, 33914\, United States
CATEGORIES:Parent Yoga
ATTACH;FMTTYPE=image/png:https://www.fi-florida.org/wp-content/uploads/2026/03/Free-Saturday-Yoga-1.png
ORGANIZER;CN="Family Initiative%2C Inc.":MAILTO:info@fi-florida.org
END:VEVENT
BEGIN:VEVENT
DTSTART;TZID=America/New_York:20290609T090000
DTEND;TZID=America/New_York:20290609T100000
DTSTAMP:20260425T101536
CREATED:20260330T174911Z
LAST-MODIFIED:20260330T185007Z
UID:10003352-1875690000-1875693600@www.fi-florida.org
SUMMARY:Parent Yoga Classes
DESCRIPTION:
URL:https://www.fi-florida.org/event/parent-yoga-classes/2029-06-09/
LOCATION:Golisano Autism Community Hub\, 3221 Chiquita Blvd S\, Cape Coral\, FL\, 33914\, United States
CATEGORIES:Parent Yoga
ATTACH;FMTTYPE=image/png:https://www.fi-florida.org/wp-content/uploads/2026/03/Free-Saturday-Yoga-1.png
ORGANIZER;CN="Family Initiative%2C Inc.":MAILTO:info@fi-florida.org
END:VEVENT
BEGIN:VEVENT
DTSTART;TZID=America/New_York:20290616T090000
DTEND;TZID=America/New_York:20290616T100000
DTSTAMP:20260425T101536
CREATED:20260330T174911Z
LAST-MODIFIED:20260330T185007Z
UID:10003353-1876294800-1876298400@www.fi-florida.org
SUMMARY:Parent Yoga Classes
DESCRIPTION:
URL:https://www.fi-florida.org/event/parent-yoga-classes/2029-06-16/
LOCATION:Golisano Autism Community Hub\, 3221 Chiquita Blvd S\, Cape Coral\, FL\, 33914\, United States
CATEGORIES:Parent Yoga
ATTACH;FMTTYPE=image/png:https://www.fi-florida.org/wp-content/uploads/2026/03/Free-Saturday-Yoga-1.png
ORGANIZER;CN="Family Initiative%2C Inc.":MAILTO:info@fi-florida.org
END:VEVENT
BEGIN:VEVENT
DTSTART;TZID=America/New_York:20290623T090000
DTEND;TZID=America/New_York:20290623T100000
DTSTAMP:20260425T101536
CREATED:20260330T174911Z
LAST-MODIFIED:20260330T185007Z
UID:10003354-1876899600-1876903200@www.fi-florida.org
SUMMARY:Parent Yoga Classes
DESCRIPTION:
URL:https://www.fi-florida.org/event/parent-yoga-classes/2029-06-23/
LOCATION:Golisano Autism Community Hub\, 3221 Chiquita Blvd S\, Cape Coral\, FL\, 33914\, United States
CATEGORIES:Parent Yoga
ATTACH;FMTTYPE=image/png:https://www.fi-florida.org/wp-content/uploads/2026/03/Free-Saturday-Yoga-1.png
ORGANIZER;CN="Family Initiative%2C Inc.":MAILTO:info@fi-florida.org
END:VEVENT
BEGIN:VEVENT
DTSTART;TZID=America/New_York:20290630T090000
DTEND;TZID=America/New_York:20290630T100000
DTSTAMP:20260425T101536
CREATED:20260330T174911Z
LAST-MODIFIED:20260330T185007Z
UID:10003355-1877504400-1877508000@www.fi-florida.org
SUMMARY:Parent Yoga Classes
DESCRIPTION:
URL:https://www.fi-florida.org/event/parent-yoga-classes/2029-06-30/
LOCATION:Golisano Autism Community Hub\, 3221 Chiquita Blvd S\, Cape Coral\, FL\, 33914\, United States
CATEGORIES:Parent Yoga
ATTACH;FMTTYPE=image/png:https://www.fi-florida.org/wp-content/uploads/2026/03/Free-Saturday-Yoga-1.png
ORGANIZER;CN="Family Initiative%2C Inc.":MAILTO:info@fi-florida.org
END:VEVENT
BEGIN:VEVENT
DTSTART;TZID=America/New_York:20290707T090000
DTEND;TZID=America/New_York:20290707T100000
DTSTAMP:20260425T101536
CREATED:20260330T174911Z
LAST-MODIFIED:20260330T185007Z
UID:10003356-1878109200-1878112800@www.fi-florida.org
SUMMARY:Parent Yoga Classes
DESCRIPTION:
URL:https://www.fi-florida.org/event/parent-yoga-classes/2029-07-07/
LOCATION:Golisano Autism Community Hub\, 3221 Chiquita Blvd S\, Cape Coral\, FL\, 33914\, United States
CATEGORIES:Parent Yoga
ATTACH;FMTTYPE=image/png:https://www.fi-florida.org/wp-content/uploads/2026/03/Free-Saturday-Yoga-1.png
ORGANIZER;CN="Family Initiative%2C Inc.":MAILTO:info@fi-florida.org
END:VEVENT
BEGIN:VEVENT
DTSTART;TZID=America/New_York:20290714T090000
DTEND;TZID=America/New_York:20290714T100000
DTSTAMP:20260425T101536
CREATED:20260330T174911Z
LAST-MODIFIED:20260330T185007Z
UID:10003357-1878714000-1878717600@www.fi-florida.org
SUMMARY:Parent Yoga Classes
DESCRIPTION:
URL:https://www.fi-florida.org/event/parent-yoga-classes/2029-07-14/
LOCATION:Golisano Autism Community Hub\, 3221 Chiquita Blvd S\, Cape Coral\, FL\, 33914\, United States
CATEGORIES:Parent Yoga
ATTACH;FMTTYPE=image/png:https://www.fi-florida.org/wp-content/uploads/2026/03/Free-Saturday-Yoga-1.png
ORGANIZER;CN="Family Initiative%2C Inc.":MAILTO:info@fi-florida.org
END:VEVENT
BEGIN:VEVENT
DTSTART;TZID=America/New_York:20290721T090000
DTEND;TZID=America/New_York:20290721T100000
DTSTAMP:20260425T101536
CREATED:20260330T174911Z
LAST-MODIFIED:20260330T185007Z
UID:10003358-1879318800-1879322400@www.fi-florida.org
SUMMARY:Parent Yoga Classes
DESCRIPTION:
URL:https://www.fi-florida.org/event/parent-yoga-classes/2029-07-21/
LOCATION:Golisano Autism Community Hub\, 3221 Chiquita Blvd S\, Cape Coral\, FL\, 33914\, United States
CATEGORIES:Parent Yoga
ATTACH;FMTTYPE=image/png:https://www.fi-florida.org/wp-content/uploads/2026/03/Free-Saturday-Yoga-1.png
ORGANIZER;CN="Family Initiative%2C Inc.":MAILTO:info@fi-florida.org
END:VEVENT
BEGIN:VEVENT
DTSTART;TZID=America/New_York:20290728T090000
DTEND;TZID=America/New_York:20290728T100000
DTSTAMP:20260425T101536
CREATED:20260330T174911Z
LAST-MODIFIED:20260330T185007Z
UID:10003359-1879923600-1879927200@www.fi-florida.org
SUMMARY:Parent Yoga Classes
DESCRIPTION:
URL:https://www.fi-florida.org/event/parent-yoga-classes/2029-07-28/
LOCATION:Golisano Autism Community Hub\, 3221 Chiquita Blvd S\, Cape Coral\, FL\, 33914\, United States
CATEGORIES:Parent Yoga
ATTACH;FMTTYPE=image/png:https://www.fi-florida.org/wp-content/uploads/2026/03/Free-Saturday-Yoga-1.png
ORGANIZER;CN="Family Initiative%2C Inc.":MAILTO:info@fi-florida.org
END:VEVENT
BEGIN:VEVENT
DTSTART;TZID=America/New_York:20290804T090000
DTEND;TZID=America/New_York:20290804T100000
DTSTAMP:20260425T101536
CREATED:20260330T174911Z
LAST-MODIFIED:20260330T185007Z
UID:10003360-1880528400-1880532000@www.fi-florida.org
SUMMARY:Parent Yoga Classes
DESCRIPTION:
URL:https://www.fi-florida.org/event/parent-yoga-classes/2029-08-04/
LOCATION:Golisano Autism Community Hub\, 3221 Chiquita Blvd S\, Cape Coral\, FL\, 33914\, United States
CATEGORIES:Parent Yoga
ATTACH;FMTTYPE=image/png:https://www.fi-florida.org/wp-content/uploads/2026/03/Free-Saturday-Yoga-1.png
ORGANIZER;CN="Family Initiative%2C Inc.":MAILTO:info@fi-florida.org
END:VEVENT
BEGIN:VEVENT
DTSTART;TZID=America/New_York:20290811T090000
DTEND;TZID=America/New_York:20290811T100000
DTSTAMP:20260425T101536
CREATED:20260330T174911Z
LAST-MODIFIED:20260330T185007Z
UID:10003361-1881133200-1881136800@www.fi-florida.org
SUMMARY:Parent Yoga Classes
DESCRIPTION:
URL:https://www.fi-florida.org/event/parent-yoga-classes/2029-08-11/
LOCATION:Golisano Autism Community Hub\, 3221 Chiquita Blvd S\, Cape Coral\, FL\, 33914\, United States
CATEGORIES:Parent Yoga
ATTACH;FMTTYPE=image/png:https://www.fi-florida.org/wp-content/uploads/2026/03/Free-Saturday-Yoga-1.png
ORGANIZER;CN="Family Initiative%2C Inc.":MAILTO:info@fi-florida.org
END:VEVENT
BEGIN:VEVENT
DTSTART;TZID=America/New_York:20290818T090000
DTEND;TZID=America/New_York:20290818T100000
DTSTAMP:20260425T101536
CREATED:20260330T174911Z
LAST-MODIFIED:20260330T185007Z
UID:10003362-1881738000-1881741600@www.fi-florida.org
SUMMARY:Parent Yoga Classes
DESCRIPTION:
URL:https://www.fi-florida.org/event/parent-yoga-classes/2029-08-18/
LOCATION:Golisano Autism Community Hub\, 3221 Chiquita Blvd S\, Cape Coral\, FL\, 33914\, United States
CATEGORIES:Parent Yoga
ATTACH;FMTTYPE=image/png:https://www.fi-florida.org/wp-content/uploads/2026/03/Free-Saturday-Yoga-1.png
ORGANIZER;CN="Family Initiative%2C Inc.":MAILTO:info@fi-florida.org
END:VEVENT
BEGIN:VEVENT
DTSTART;TZID=America/New_York:20290825T090000
DTEND;TZID=America/New_York:20290825T100000
DTSTAMP:20260425T101536
CREATED:20260330T174911Z
LAST-MODIFIED:20260330T185007Z
UID:10003363-1882342800-1882346400@www.fi-florida.org
SUMMARY:Parent Yoga Classes
DESCRIPTION:
URL:https://www.fi-florida.org/event/parent-yoga-classes/2029-08-25/
LOCATION:Golisano Autism Community Hub\, 3221 Chiquita Blvd S\, Cape Coral\, FL\, 33914\, United States
CATEGORIES:Parent Yoga
ATTACH;FMTTYPE=image/png:https://www.fi-florida.org/wp-content/uploads/2026/03/Free-Saturday-Yoga-1.png
ORGANIZER;CN="Family Initiative%2C Inc.":MAILTO:info@fi-florida.org
END:VEVENT
END:VCALENDAR