BEGIN:VCALENDAR
VERSION:2.0
PRODID:-//Family Initiative, Inc. - ECPv6.15.20//NONSGML v1.0//EN
CALSCALE:GREGORIAN
METHOD:PUBLISH
X-ORIGINAL-URL:https://www.fi-florida.org
X-WR-CALDESC:Events for Family Initiative, Inc.
REFRESH-INTERVAL;VALUE=DURATION:PT1H
X-Robots-Tag:noindex
X-PUBLISHED-TTL:PT1H
BEGIN:VTIMEZONE
TZID:America/New_York
BEGIN:DAYLIGHT
TZOFFSETFROM:-0500
TZOFFSETTO:-0400
TZNAME:EDT
DTSTART:20200308T070000
END:DAYLIGHT
BEGIN:STANDARD
TZOFFSETFROM:-0400
TZOFFSETTO:-0500
TZNAME:EST
DTSTART:20201101T060000
END:STANDARD
BEGIN:DAYLIGHT
TZOFFSETFROM:-0500
TZOFFSETTO:-0400
TZNAME:EDT
DTSTART:20210314T070000
END:DAYLIGHT
BEGIN:STANDARD
TZOFFSETFROM:-0400
TZOFFSETTO:-0500
TZNAME:EST
DTSTART:20211107T060000
END:STANDARD
BEGIN:DAYLIGHT
TZOFFSETFROM:-0500
TZOFFSETTO:-0400
TZNAME:EDT
DTSTART:20220313T070000
END:DAYLIGHT
BEGIN:STANDARD
TZOFFSETFROM:-0400
TZOFFSETTO:-0500
TZNAME:EST
DTSTART:20221106T060000
END:STANDARD
END:VTIMEZONE
BEGIN:VEVENT
DTSTART;VALUE=DATE:20210619
DTEND;VALUE=DATE:20210620
DTSTAMP:20260420T074342
CREATED:20210511T131343Z
LAST-MODIFIED:20210527T121132Z
UID:10002001-1624060800-1624147199@www.fi-florida.org
SUMMARY:Reeling for Autism
DESCRIPTION:June 19th \nShrimp Dock & Salty Sam’s Marina\nCatch\, Photo & Release Tournament\n1 Snook\, 1 Redfish & 1 Trout Contest \nPrize: Money awarded to 1st-3rd overall.\nSilent Auction\, 50/50 Raffle\n100% of Proceeds Stay in SWFL and Supports Family Initiative Programs and Services! \nWAIVER FORM\n 
URL:https://www.fi-florida.org/event/reeling-for-autism/
LOCATION:Shrimp Dock & Salty Sam’s Marina\, 2500 Main Street\, Fort Myers Beach\, FL\, 33931\, United States
CATEGORIES:Events
ATTACH;FMTTYPE=image/jpeg:https://www.fi-florida.org/wp-content/uploads/2021/05/reeling-for-autism-fishing-ournament.jpg
ORGANIZER;CN="Family Initiative%2C Inc.":MAILTO:info@fi-florida.org
END:VEVENT
END:VCALENDAR